Workbook
Name 大專女子乙組: 工作表2!$M$3:$M$10
Name 大專女子甲組: 工作表2!$M$3:$M$10
Name 大專男子乙組: 工作表2!$L$3:$L$10
Name 大專男子甲組: 工作表2!$L$3:$L$10
Name 女: 工作表2!$K$2:$K$11
Name 女: 工作表2!$H$2:$H$30
Name 男: 工作表2!$J$2:$J$11
Name 男: 工作表2!$G$2:$G$30
Name 性別: 工作表2!$E$3:$E$4
Name 所在縣市: 團體會員編號查詢暨資料異動登記!$O$1:$P$20
Name 社會女子乙組: 工作表2!$M$4:$M$10
Name 社會女子甲組: 工作表2!$M$4:$M$10
Name 社會男子乙組: 工作表2!$L$4:$L$10
Name 社會男子甲組: 工作表2!$L$4:$L$10
Name 高中女子組: 工作表2!$O$1:$O$9
Name 高中男子組: 工作表2!$N$1:$N$9
Name 國小女生A組: 工作表2!$S$1:$S$9
Name 國小女生B組: 工作表2!$U$1:$U$10
Name 國小男生A組: 工作表2!$R$1:$R$9
Name 國小男生B組: 工作表2!$T$1:$T$10
Name 國中女子組: 工作表2!$Q$1:$Q$10
Name 國中男子組: 工作表2!$P$1:$P$11
Name 會員項目: [1]工作表!$C$2:$C$191
Name 會員編號: 工作表2!$A$1:$A$197
Name 團體組組別: 工作表2!$E$1:$H$17
Name 團體會員名稱: 工作表2!$B$1:$B$197
Name 團體會員名稱: 工作表2!$B$1:$B$197
Name 團體會員名稱1: 工作表2!$A$1:$B$197

Sheet A.報名總表
B1: 中華民國柔道總會107年全國中正盃柔道錦標賽報名表 | H1: 請選擇會員編號↓ | K1: <--1.請先選擇<或填入3碼>會員編號
B3: 報名單位： | C3: =VLOOKUP(H1,團體會員名稱1,2,FALSE) -> 團體會員名稱 | K3: =H1 -> 請選擇會員編號↓ | L3: =C3 -> 團體會員名稱
B5: 團體/個人 | C5: 組別 | D5: ↓ | F5: 報名費 | G5: 金額
B6: 團體 | C6: 特別組 | E6: 組 | F6: 2000 | G6: =D6*F6 -> 0
B7: 團體 | C7: 社會男子甲組 | E7: 組 | F7: 2000 | G7: =D7*F7 -> 0
B8: 團體 | C8: 社會女子甲組 | E8: 組 | F8: 2000 | G8: =D8*F8 -> 0
B9: 團體 | C9: 社會男子乙組 | E9: 組 | F9: 2000 | G9: =D9*F9 -> 0
B10: 團體 | C10: 社會女子乙組 | E10: 組 | F10: 2000 | G10: =D10*F10 -> 0
B11: 團體 | C11: 大專男子甲組 | E11: 組 | F11: 2000 | G11: =D11*F11 -> 0
B12: 團體 | C12: 大專女子甲組 | E12: 組 | F12: 2000 | G12: =D12*F12 -> 0
B13: 團體 | C13: 大專男子乙組 | E13: 組 | F13: 2000 | G13: =D13*F13 -> 0
B14: 團體 | C14: 大專女子乙組 | E14: 組 | F14: 2000 | G14: =D14*F14 -> 0
B15: 團體 | C15: 高中男子組 | E15: 組 | F15: 2000 | G15: =D15*F15 -> 0
B16: 團體 | C16: 高中女子組 | E16: 組 | F16: 2000 | G16: =D16*F16 -> 0
B17: 團體 | C17: 國中男子組 | E17: 組 | F17: 2000 | G17: =D17*F17 -> 0
... B20: 團體 | C20: 國小女生組 | E20: 組 | F20: 1000 | G20: =D20*F20 -> 0
C21: 團體組報名組數 | D21: =SUM(D6:D20) -> 0 | E21: 組
B22: 個人 | C22: 社會男子甲組 | E22: 人 | F22: 400 | G22: =D22*F22 -> 0
B23: 個人 | C23: 社會女子甲組 | E23: 人 | F23: 400 | G23: =D23*F23 -> 0
B24: 個人 | C24: 社會男子乙組 | E24: 人 | F24: 400 | G24: =D24*F24 -> 0
B25: 個人 | C25: 社會女子乙組 | E25: 人 | F25: 400 | G25: =D25*F25 -> 0
B26: 個人 | C26: 大專男子甲組 | E26: 人 | F26: 400 | G26: =D26*F26 -> 0
B27: 個人 | C27: 大專女子甲組 | E27: 人 | F27: 400 | G27: =D27*F27 -> 0
B28: 個人 | C28: 大專男子乙組 | E28: 人 | F28: 400 | G28: =D28*F28 -> 0
B29: 個人 | C29: 大專女子乙組 | E29: 人 | F29: 400 | G29: =D29*F29 -> 0
B30: 個人 | C30: 高中男子組 | E30: 人 | F30: 400 | G30: =D30*F30 -> 0
B31: 個人 | C31: 高中女子組 | E31: 人 | F31: 400 | G31: =D31*F31 -> 0
B32: 個人 | C32: 國中男子組 | E32: 人 | F32: 400 | G32: =D32*F32 -> 0
B33: 個人 | C33: 國中女子組 | E33: 人 | F33: 400 | G33: =D33*F33 -> 0
... B38: 個人 | C38: 格式組(一組2人) | E38: 人 | F38: 250 | G38: =D38*F38 -> 0
C39: 個人組報名人數 | D39: =SUM(D22:D38) -> 0 | E39: 人 | F39: 合計: | G39: =SUM(G6:G38) -> 0
B41: 匯款證明單黏貼處~超出下頁部份往上摺即可~謝謝!
B43: 收據抬頭: | C43: =C3 -> 團體會員名稱 | H43: 單位及教練簽章:
B44: 收據金額: | C44: =G39 -> 0
B45: 聯絡人:
B46: 聯絡電話:
B47: 匯款證明單: | C47: □電匯單□ATM轉帳收據□其他:

Sheet B1.隊職員名單(須列印郵寄)(團體賽名單)
D1: =A.報名總表!K3 -> 請選擇會員編號↓ | F1: 中華民國柔道總會107年全國中正盃柔道錦標賽報名表
F2: =A.報名總表!C3 -> 團體會員名稱
D4: 項 | E4: 職別 | F4: 姓名 | G4: 姓名 | H4: 姓名 | I4: 姓名 | J4: 姓名 | K4: 姓名 | L4: 姓名
B5: =D1 -> 請選擇會員編號↓ | D5: =F2 -> 團體會員名稱
B6: =D1 -> 請選擇會員編號↓ | D6: 領 隊
B7: =D1 -> 請選擇會員編號↓ | D7: 管 理
B8: =D1 -> 請選擇會員編號↓ | D8: 教 練
B9: =D1 -> 請選擇會員編號↓ | D9: 團體組 | N9: (團體組含隊長至多七名)
B10: =D1 -> 請選擇會員編號↓ | D10: 1 | E10: 特別組
B11: =D1 -> 請選擇會員編號↓ | D11: 2 | E11: 社會男子甲組
B12: =D1 -> 請選擇會員編號↓ | D12: 3 | E12: 社會女子甲組
B13: =D1 -> 請選擇會員編號↓ | D13: 4 | E13: 社會男子乙組
B14: =D1 -> 請選擇會員編號↓ | D14: 5 | E14: 社會女子乙組
B15: =D1 -> 請選擇會員編號↓ | D15: 6 | E15: 大專男子甲組
B16: =D1 -> 請選擇會員編號↓ | D16: 7 | E16: 大專女子甲組
B17: =D1 -> 請選擇會員編號↓ | D17: 8 | E17: 大專男子乙組
B18: =D1 -> 請選擇會員編號↓ | D18: 9 | E18: 大專女子乙組
B19: =D1 -> 請選擇會員編號↓ | D19: 10 | E19: 高中男子組
B20: =D1 -> 請選擇會員編號↓ | D20: 11 | E20: 高中女子組
B21: =D1 -> 請選擇會員編號↓ | D21: 12 | E21: 國中男子組
B22: =D1 -> 請選擇會員編號↓ | D22: 13 | E22: 國中女子組
B23: =D1 -> 請選擇會員編號↓ | D23: 14 | E23: 國小男生組
B24: =D1 -> 請選擇會員編號↓ | D24: 15 | E24: 國小女生組
B25: =D1 -> 請選擇會員編號↓ | D25: 個人組
B26: =D1 -> 請選擇會員編號↓ | D26: 1 | E26: 社會男子甲組
B27: =D1 -> 請選擇會員編號↓ | D27: 2 | E27: 社會女子甲組 | N27: 未報名之組別~可將<表格列>請自行刪減後再列印~謝謝!
B28: =D1 -> 請選擇會員編號↓ | D28: 3 | E28: 社會男子乙組 | N28: (同組別人數多於七名時，請增加一列填寫)
B29: =D1 -> 請選擇會員編號↓ | D29: 4 | E29: 社會女子乙組
B30: =D1 -> 請選擇會員編號↓ | D30: 5 | E30: 大專男子甲組
B31: =D1 -> 請選擇會員編號↓ | D31: 6 | E31: 大專女子甲組
B32: =D1 -> 請選擇會員編號↓ | D32: 7 | E32: 大專男子乙組
B33: =D1 -> 請選擇會員編號↓ | D33: 8 | E33: 大專女子乙組
B34: =D1 -> 請選擇會員編號↓ | D34: 9 | E34: 高中男子組
B35: =D1 -> 請選擇會員編號↓ | D35: 10 | E35: 高中女子組
B36: =D1 -> 請選擇會員編號↓ | D36: 11 | E36: 國中男子組
B37: =D1 -> 請選擇會員編號↓ | D37: 12 | E37: 國中女子組
B38: =D1 -> 請選擇會員編號↓ | D38: 13 | E38: 國小男生A組
B39: =D1 -> 請選擇會員編號↓ | D39: 14 | E39: 國小女生A組
B40: =D1 -> 請選擇會員編號↓ | D40: 15 | E40: 國小男生B組
B41: =D1 -> 請選擇會員編號↓ | D41: 16 | E41: 國小女生B組
...

Sheet B2.格式組報名表
A1: =A.報名總表!K3 -> 請選擇會員編號↓ | C1: 中華民國柔道總會107年全國中正盃柔道錦標賽
C2: =A.報名總表!C3 -> 團體會員名稱 | G2: 格式組報名表
A3: 組數 | B3: 年齡分組 | C3: 比賽項目 | D3: 施術者姓名 | E3: 出生 年月日 | F3: 身分證字號 | G3: 被施術者姓名 | H3: 出生 年月日 | I3: 身分證字號
A4: 1 | B4: 國小A組 | C4: 投之形 | K4: 格式組
A5: 2 | B5: 國小A組 | C5: 柔之形 | K5: （一） 國小A、B、C組：投之形（手技、腰技、足技）、柔之形。
A6: 3 | B6: 國小B組 | C6: 投之形 | K6: （二） 國中組：投之形、固之形、柔之形、極之形、講道館護身術。
A7: 4 | B7: 國小B組 | C7: 柔之形 | K7: （三） 高中組：投之形、固之形、柔之形、極之形、講道館護身術。
A8: 5 | B8: 國小C組 | C8: 投之形 | K8: （四） 成人組：投之形、固之形、柔之形、極之形、講道館護身術。
A9: 6 | B9: 國小C組 | C9: 柔之形
A10: 7 | B10: 國中組 | C10: 投之形
A11: 8 | B11: 國中組 | C11: 固之形
A12: 9 | B12: 國中組 | C12: 柔之形
A13: 10 | B13: 國中組 | C13: 極之形
A14: 11 | B14: 國中組 | C14: 講道館護身術
A15: 12 | B15: 高中組 | C15: 投之形
A16: 13 | B16: 高中組 | C16: 固之形
A17: 14 | B17: 高中組 | C17: 柔之形
A18: 15 | B18: 高中組 | C18: 極之形
A19: 16 | B19: 高中組 | C19: 講道館護身術
A20: 17 | B20: 成人組 | C20: 投之形
... A24: 21 | B24: 成人組 | C24: 講道館護身術
C25: 單位及教練簽章:

Sheet C.選手名單(個人賽名單)
C1: 中華民國柔道總會107年全國中正盃柔道錦標賽 | O1: 1.請先選擇<性別>，再選擇組別
C2: =A.報名總表!C3:G3 -> 團體會員名稱 | K2: 選手名單 | N2: =A.報名總表!K3 -> 請選擇會員編號↓ | O2: 國小團體組請選擇<國小男生組>及<國小女生組>
C3: 人數 | D3: 姓名 | E3: 單位縮寫 | F3: 性別 | G3: 出生年月日 | H3: 身份證字號 | I3: (一)團體組 | J3: 隊 | K3: (一)個人組組別 | L3: 級數&量級 | M3: (二)個人組組別 | N3: 級數&量級 | O3: 國小個人組請選擇<A組>或<B組>
C4: 1 | E4: 請輸入四個字 | F4: 女 | I4: 請選組別↓ | K4: 請選組別↓ | L4: 請選量級↓ | M4: 請選組別↓ | N4: 請選量級↓ | O4: 格式組請先於(一)團體組選擇<格式組>，再至個人組選擇組別
C5: 2 | E5: =E4 -> 請輸入四個字 | F5: 男 | I5: 請選組別↓ | K5: 請選組別↓ | L5: 請選量級↓ | P5: 請選組別↓ | R5: 請選量級↓
C6: 3 | E6: =E5 -> 請輸入四個字 | R6: 一 | S6: 二 | T6: 三 | U6: 四 | V6: 五 | W6: 六 | X6: 七 | Y6: 八 | Z6: 九 | AA6: 十
C7: 4 | E7: =E6 -> 請輸入四個字 | O7: 1 | P7: 特別組
C8: 5 | E8: =E7 -> 請輸入四個字 | O8: 2 | P8: 社會男子甲組 | R8: -60 | S8: -66 | T8: -73 | U8: -81 | V8: -90 | W8: -100 | X8: +100
C9: 6 | E9: =E8 -> 請輸入四個字 | O9: 3 | P9: 社會女子甲組 | R9: -48 | S9: -52 | T9: -57 | U9: -63 | V9: -70 | W9: -78 | X9: +78
C10: 7 | E10: =E9 -> 請輸入四個字 | O10: 4 | P10: 社會男子乙組 | R10: -60 | S10: -66 | T10: -73 | U10: -81 | V10: -90 | W10: -100 | X10: +100
C11: 8 | E11: =E10 -> 請輸入四個字 | O11: 5 | P11: 社會女子乙組 | R11: -48 | S11: -52 | T11: -57 | U11: -63 | V11: -70 | W11: -78 | X11: +78
C12: 9 | E12: =E11 -> 請輸入四個字 | O12: 6 | P12: 大專男子甲組 | R12: -60 | S12: -66 | T12: -73 | U12: -81 | V12: -90 | W12: -100 | X12: +100
C13: 10 | E13: =E12 -> 請輸入四個字 | O13: 7 | P13: 大專女子甲組 | R13: -48 | S13: -52 | T13: -57 | U13: -63 | V13: -70 | W13: -78 | X13: +78
C14: 11 | E14: =E13 -> 請輸入四個字 | O14: 8 | P14: 大專男子乙組 | R14: -60 | S14: -66 | T14: -73 | U14: -81 | V14: -90 | W14: -100 | X14: +100
C15: 12 | E15: =E14 -> 請輸入四個字 | O15: 9 | P15: 大專女子乙組 | R15: -48 | S15: -52 | T15: -57 | U15: -63 | V15: -70 | W15: -78 | X15: +78
C16: 13 | E16: =E15 -> 請輸入四個字 | O16: 10 | P16: 高中男子組 | R16: -55 | S16: -60 | T16: -66 | U16: -73 | V16: -81 | W16: -90 | X16: -100 | Y16: +100
C17: 14 | E17: =E16 -> 請輸入四個字 | O17: 11 | P17: 高中女子組 | R17: -45 | S17: -48 | T17: -52 | U17: -57 | V17: -63 | W17: -70 | X17: -78 | Y17: +78
C18: 15 | E18: =E17 -> 請輸入四個字 | O18: 12 | P18: 國中男子組 | R18: -38 | S18: -42 | T18: -46 | U18: -50 | V18: -55 | W18: -60 | X18: -66 | Y18: -73 | Z18: -81 | AA18: +81
C19: 16 | E19: =E18 -> 請輸入四個字 | O19: 13 | P19: 國中女子組 | R19: -36 | S19: -40 | T19: -44 | U19: -48 | V19: -52 | W19: -57 | X19: -63 | Y19: -70 | Z19: +70
C20: 17 | E20: =E19 -> 請輸入四個字 | O20: 14 | P20: 國小男生A組 | R20: -30 | S20: -33 | T20: -37 | U20: -41 | V20: -45 | W20: -50 | X20: -55 | Y20: +55
C21: 18 | E21: =E20 -> 請輸入四個字 | O21: 15 | P21: 國小女生A組 | R21: -30 | S21: -33 | T21: -37 | U21: -41 | V21: -45 | W21: -50 | X21: -55 | Y21: +55
C22: 19 | E22: =E21 -> 請輸入四個字 | O22: 16 | P22: 國小男生B組 | R22: -26 | S22: -30 | T22: -33 | U22: -37 | V22: -41 | W22: -45 | X22: -50 | Y22: -55 | Z22: +55
C23: 20 | E23: =E22 -> 請輸入四個字 | O23: 17 | P23: 國小女生B組 | R23: -26 | S23: -30 | T23: -33 | U23: -37 | V23: -41 | W23: -45 | X23: -50 | Y23: -55 | Z23: +55
C24: 21 | E24: =E23 -> 請輸入四個字
C25: 22 | E25: =E24 -> 請輸入四個字 | O25: 請勿刪除任何欄位~謝謝!
C26: 23 | E26: =E25 -> 請輸入四個字
C27: 24 | E27: =E26 -> 請輸入四個字
C28: 25 | E28: =E27 -> 請輸入四個字
C29: 26 | E29: =E28 -> 請輸入四個字
C30: 27 | E30: =E29 -> 請輸入四個字
C31: 28 | E31: =E30 -> 請輸入四個字
C32: 29 | E32: =E31 -> 請輸入四個字
C33: 30 | E33: =E32 -> 請輸入四個字
C34: 選手人數=過磅單數量 | G34: 本人報名資料僅供主辦單位辦理本活動使用
K35: 單位及教練簽章:
C37: 中華民國柔道總會107年全國柔道錦標賽
C38: =C2 -> 團體會員名稱 | K38: =E4 -> 請輸入四個字 | L38: 選手名單 | N38: =N2 -> 請選擇會員編號↓
C39: 人數 | D39: 姓名 | F39: 性別 | G39: 出生年月日 | H39: 身份證字號 | I39: (一)團體組 | J39: 隊 | K39: (一)個人組組別 | L39: 級數&量級 | M39: (二)個人組組別 | N39: 級數&量級
C40: 31 | F40: 男 | I40: 請選組別↓ | K40: 請選組別↓ | M40: 請選組別↓
C41: 32
...

Sheet 注意事項
A1: 十、報名手續：一律採用電子郵件方式報名。
A3: A.報名總表(須列印，連同匯款證明單一同郵寄以完成報名)
B4: 1.請選擇會員號碼。
B5: 2.請填入報名組數及人數。
B6: 3.請填入聯絡人及聯絡人電話。
B7: 3.請將匯款證明黏貼於<匯款證明單黏貼處>~超出部份往上摺即可。
B8: 4.標準報名表如右-------------------------------------------->
B10: ※單位名稱會自行顯示，若要開立不同名稱之收據~請另外註記
B11: ※輸入組數/人數後，金額會自動計算，不需再填。
A13: B.職員名單(須列印郵寄)
B14: 1.團體組含隊長至多七名。
B15: 2.可自行增加列數。
B16: 3.未報名之組別~請自行刪減表格列後再列印。
B17: 4.以道館或柔委會報名之在學生請務必於名字後面加上(學校名稱)
B18: ※ B.隊職員名單與 C.選手名單務必一致
A20: C.選手名單(須列印郵寄)
B21: 1.請填入單位縮寫(單位名稱-限四個字)。
B22: 2.請先鍵入<性別>，再選擇組別。
B23: 3.請確實填入選手個人資料(出生年月日及身分證字號)，俾便辦理保險事宜。
B24: 4.請勿刪除/增加任何欄位，人數大於30人請往下填第二頁。
B25: ※B.職員名單與C.選手名單務必一致
A27: ※請於報名截止日前將電子檔案寄至報名專用電子信箱:tpejudo.ctja@gmail.com。
A28: ※主旨請寫會員號碼+單位名稱4個字+107中正盃報名表。(例:000柔道總會107中正盃報名表)
A29: --->請勿只填寫中正盃報名表(若大家都寫同樣的主旨-會務人員收信/查信會很容易疏漏)
A31: ※電匯帳戶:中華民國柔道總會呂威震，彰化銀行/中崙分行-5154-01-468000-00。
A32: ※盡量不使用匯票、現金袋或現金等方式繳交報名費
A33: --->會務人員收取現金對帳會容易疏漏
A35: ※請於報名截止日(10/1)前完成報名及繳費。
A36: ※如有正當理由無法參賽者，所繳報名費扣除相關行政作業所需支出後退還餘款
A37: --->(退報名費二分之一)(※限報到前告知)
A39: ※需郵寄資料:
A40: 1 | B40: A.報名總表 | E40: 2 | F40: 匯款證明單
A41: 3 | B41: B.隊職員名單 | E41: 4 | F41: 家長同意書
A42: 5 | B42: C.選手名單 | D42: (可免寄)
A44: ※郵寄地址:104臺北市中山區朱崙街20號510室。(郵戳為憑)。
A46: ※團體會員常年會費或個人會員常年會費歡迎連同報名費一起繳交

Sheet 工作表2
A1: 會員號碼 | B1: 團體會員名稱 | E1: 性別 | F1: 團體組組別 | G1: 男團體組組別 | H1: 女團體組組別 | I1: 個人組組別 | J1: 男個人組組別 | K1: 女個人組組別 | L1: 社會男子甲組 | M1: 社會女子甲組 | N1: 高中男子組 | O1: 高中女子組 | P1: 國中男子組 | Q1: 國中女子組 | R1: 國小男生A組 | S1: 國小女生A組 | T1: 國小男生B組 | U1: 國小女生B組
A2: 請選擇會員編號↓ | B2: 團體會員名稱 | E2: 請選 | F2: 請選組別↓ | G2: 請選組別↓ | H2: 請選組別↓ | I2: 請選組別↓ | J2: 請選組別↓ | K2: 請選組別↓ | L2: 大專男子甲組 | M2: 大專女子甲組 | N2: 第一級-55kg | O2: 第一級-44kg | P2: 第一級-38kg | Q2: 第一級-36kg | R2: 第一級-30kg | S2: 第一級-30kg | T2: 第一級-26kg | U2: 第一級-26kg
A3: 001 | B3: 內政部警政署 | C3: 臺北市 | E3: 男 | F3: 特別組 | G3: 特別組 | H3: 特別組 | L3: 請選量級↓ | M3: 請選量級↓ | N3: 第二級-60kg | O3: 第二級-48kg | P3: 第二級-42kg | Q3: 第二級-40kg | R3: 第二級-33kg | S3: 第二級-33kg | T3: 第二級-30kg | U3: 第二級-30kg
A4: 002 | B4: 台灣省體育會柔道協會 | C4: 基隆市 | E4: 女 | F4: 社會男子甲組 | G4: 社會男子甲組 | H4: 社會女子甲組 | I4: 社會男子甲組 | J4: 社會男子甲組 | K4: 社會女子甲組 | L4: 第一級-60kg | M4: 第一級-48kg | N4: 第三級-66kg | O4: 第三級-52kg | P4: 第三級-46kg | Q4: 第三級-44kg | R4: 第三級-37kg | S4: 第三級-37kg | T4: 第三級-33kg | U4: 第三級-33kg
A5: 003 | B5: 臺北市體育總會柔道協會 | C5: 臺北市 | F5: 社會女子甲組 | G5: 社會男子乙組 | H5: 社會女子乙組 | I5: 社會女子甲組 | J5: 社會男子乙組 | K5: 社會女子乙組 | L5: 第二級-66kg | M5: 第二級-52kg | N5: 第四級-73kg | O5: 第四級-57kg | P5: 第四級-50kg | Q5: 第四級-48kg | R5: 第四級-41kg | S5: 第四級-41kg | T5: 第四級-37kg | U5: 第四級-37kg
A6: 004 | B6: 新北市體育總會柔道委員會 | C6: 新北市 | F6: 社會男子乙組 | G6: 大專男子甲組 | H6: 大專女子甲組 | I6: 社會男子乙組 | J6: 大專男子甲組 | K6: 大專女子甲組 | L6: 第三級-73kg | M6: 第三級-57kg | N6: 第五級-81kg | O6: 第五級-63kg | P6: 第五級-55kg | Q6: 第五級-52kg | R6: 第五級-45kg | S6: 第五級-45kg | T6: 第五級-41kg | U6: 第五級-41kg
A7: 005 | B7: 桃園市體育會柔道委員會 | C7: 桃園市 | F7: 社會女子乙組 | G7: 大專男子乙組 | H7: 大專女子乙組 | I7: 社會女子乙組 | J7: 大專男子乙組 | K7: 大專女子乙組 | L7: 第四級-81kg | M7: 第四級-63kg | N7: 第六級-90kg | O7: 第六級-70kg | P7: 第六級-60kg | Q7: 第六級-57kg | R7: 第六級-50kg | S7: 第六級-50kg | T7: 第六級-45kg | U7: 第六級-45kg
A8: 006 | B8: 臺中市體育總會柔道委員會 | C8: 台中市 | F8: 大專男子甲組 | G8: 高中男子組 | H8: 高中女子組 | I8: 大專男子甲組 | J8: 高中男子組 | K8: 高中女子組 | L8: 第五級-90kg | M8: 第五級-70kg | N8: 第七級-100kg | O8: 第七級-78kg | P8: 第七級-66kg | Q8: 第七級-63kg | R8: 第七級-55kg | S8: 第七級-55kg | T8: 第七級-50kg | U8: 第七級-50kg
A9: 007 | B9: 臺南市體育總會柔道委員會 | C9: 台南市 | F9: 大專女子甲組 | G9: 國中男子組 | H9: 國中女子組 | I9: 大專女子甲組 | J9: 國中男子組 | K9: 國中女子組 | L9: 第六級-100kg | M9: 第六級-78kg | N9: 第八級+100kg | O9: 第八級+78kg | P9: 第八級-73kg | Q9: 第八級-70kg | R9: 第八級+55kg | S9: 第八級+55kg | T9: 第八級-55kg | U9: 第八級-55kg
A10: 008 | B10: 高雄市體育會柔道委員會 | C10: 高雄市 | F10: 大專男子乙組 | G10: 國小男生組 | H10: 國小女生組 | I10: 大專男子乙組 | J10: 國小男生A組 | K10: 國小女生A組 | L10: 第七級+100kg | M10: 第七級+78kg | P10: 第九級-81kg | Q10: 第九級+70kg | T10: 第九級+55kg | U10: 第九級+55kg
A11: 009 | B11: 基隆市體育會柔道委員會 | C11: 基隆市 | F11: 大專女子乙組 | G11: 國小男生A組 | H11: 國小女生A組 | I11: 大專女子乙組 | J11: 國小男生B組 | K11: 國小女生B組 | P11: 第十級+81kg
A12: 010 | B12: 新竹市體育會柔道委員會 | C12: 新竹市 | F12: 高中男子組 | G12: 國小男生B組 | H12: 國小女生B組 | I12: 高中男子組
A13: 011 | B13: 嘉義市體育會柔道委員會 | C13: 嘉義市 | F13: 高中女子組 | G13: 格式組 | H13: 格式組 | I13: 高中女子組
A14: 012 | B14: 新竹縣體育會柔道委員會 | C14: 新竹縣 | F14: 國中男子組 | G14: 國小組投之形 | H14: 國小組投之形 | I14: 國中男子組
A15: 013 | B15: 彰化縣體育會柔道委員會 | C15: 彰化市 | F15: 國中女子組 | G15: 國小組柔之形 | H15: 國小組柔之形 | I15: 國中女子組
A16: 014 | B16: 南投縣體育會柔道委員會 | C16: 南投縣 | F16: 國小男生組 | G16: 國中組投之形 | H16: 國中組投之形 | I16: 國小男生A組
A17: 015 | B17: 嘉義縣體育會柔道委員會 (嘉義縣朴子柔道訓練站) | C17: 嘉義縣 | F17: 國小女生組 | G17: 國中組固之形 | H17: 國中組固之形 | I17: 國小女生A組
A18: 016 | G18: 國中組柔之形 | H18: 國中組柔之形 | I18: 國小男生B組
A19: 017 | B19: 宜蘭縣體育會柔道委員會 | C19: 宜蘭縣 | G19: 國中組極之形 | H19: 國中組極之形 | I19: 國小女生B組
A20: 018 | B20: 花蓮縣體育會柔道委員會 | C20: 花蓮縣 | G20: 國中組講道館護身術 | H20: 國中組講道館護身術
A21: 019 | B21: 臺東縣體育會柔道委員會 | C21: 台東市 | G21: 高中組投之形 | H21: 高中組投之形
A22: 020 | B22: 澎湖縣體育會柔道委員會 | C22: 澎湖縣 | G22: 高中組固之形 | H22: 高中組固之形
A23: 021 | B23: 台北市中山區柔道委員會 | C23: 臺北市 | G23: 高中組柔之形 | H23: 高中組柔之形
A24: 022 | B24: 板橋區體育會柔道委員會 | C24: 新北市 | G24: 高中組極之形 | H24: 高中組極之形
A25: 023 | B25: 土城區體育會柔道委員會 | C25: 新北市 | G25: 高中組講道館護身術 | H25: 高中組講道館護身術
A26: 024 | G26: 成人組投之形 | H26: 成人組投之形
A27: 025 | B27: 新營區體育會柔道委員會 | C27: 台南市 | G27: 成人組固之形 | H27: 成人組固之形
A28: 026 | B28: 草屯鎮柔道委員會 | C28: 南投縣 | G28: 成人組柔之形 | H28: 成人組柔之形
A29: 027 | G29: 成人組極之形 | H29: 成人組極之形
A30: 028 | B30: 海天武道館 | C30: 臺北市 | G30: 成人組講道館護身術 | H30: 成人組講道館護身術
A31: 029 | B31: 大安柔道館 | C31: 臺北市
A32: 030 | B32: 臺北市南港區柔道委員會成德柔道館 | C32: 臺北市
A33: 031 | B33: 台北市柔道推廣協會 | C33: 臺北市
A34: 032 | B34: 安平道館 | C34: 新北市
A35: 033 | B35: 可愛柔道館 | C35: 宜蘭縣
A36: 034 | B36: 台中市柔道館 | C36: 台中市
A37: 035 | B37: 后里柔道館 | C37: 台中市
A38: 036 | B38: 台中市柔道協進會 | C38: 台中市
A39: 037 | B39: 嘉義市柔道協會 | C39: 嘉義縣
A40: 038 | B40: 雲林縣虎尾鎮柔道促進會 | C40: 雲林縣
...

Sheet 團體會員編號查詢暨資料異動登記
L1: 會員項目 | M1: 團體數 | P1: 所在縣市
A2: 會員號碼 | B2: 團體會員名稱 | C2: 所在縣市 | L2: 政府機關 | M2: 1 | O2: 1 | P2: 台北市
A3: 001 | B3: 內政部警政署 | C3: 臺北市 | L3: 直轄市委員會 | M3: 5 | O3: 2 | P3: 基隆市
A4: 002 | B4: 台灣省體育會柔道協會 | C4: 基隆市 | L4: 縣(市)體育會委員會 | O4: 3 | P4: 宜蘭縣
A5: 003 | B5: 臺北市體育總會柔道協會 | C5: 臺北市 | L5: 縣(市)委員會 | O5: 4 | P5: 桃園縣
A6: 004 | B6: 新北市體育總會柔道委員會 | C6: 新北市 | L6: 大專院校 | O6: 5 | P6: 新竹市
A7: 005 | B7: 桃園市體育會柔道委員會 | C7: 桃園市 | L7: 中等學校 | O7: 6 | P7: 新竹縣
A8: 006 | B8: 臺中市體育總會柔道委員會 | C8: 台中市 | L8: 小學 | O8: 7 | P8: 台中市
A9: 007 | B9: 臺南市體育總會柔道委員會 | C9: 台南市 | L9: 推廣協會 | O9: 8 | P9: 苗栗縣
A10: 008 | B10: 高雄市體育會柔道委員會 | C10: 高雄市 | L10: 道館 | O10: 9 | P10: 彰化縣
A11: 009 | B11: 基隆市體育會柔道委員會 | C11: 基隆市 | M11: =SUM(M2:M10) -> 6 | O11: 10 | P11: 南投縣
A12: 010 | B12: 新竹市體育會柔道委員會 | C12: 新竹市 | O12: 11 | P12: 雲林縣
A13: 011 | B13: 嘉義市體育會柔道委員會 | C13: 嘉義市 | O13: 12 | P13: 台南市
A14: 012 | B14: 新竹縣體育會柔道委員會 | C14: 新竹縣 | O14: 13 | P14: 高雄市
A15: 013 | B15: 彰化縣體育會柔道委員會 | C15: 彰化市 | O15: 14 | P15: 嘉義市
A16: 014 | B16: 南投縣體育會柔道委員會 | C16: 南投縣 | O16: 15 | P16: 嘉義縣
A17: 015 | B17: 嘉義縣體育會柔道委員會 (嘉義縣朴子柔道訓練站) | C17: 嘉義縣 | O17: 16 | P17: 屏東縣
A18: 016 | E18: 016 | F18: 屏東縣體育會柔道委員會 | G18: 屏東市 | H18: 已除籍1 | O18: 17 | P18: 澎湖縣
A19: 017 | B19: 宜蘭縣體育會柔道委員會 | C19: 宜蘭縣 | O19: 18 | P19: 花蓮縣
A20: 018 | B20: 花蓮縣體育會柔道委員會 | C20: 花蓮縣 | O20: 19 | P20: 台東縣
A21: 019 | B21: 臺東縣體育會柔道委員會 | C21: 台東市
A22: 020 | B22: 澎湖縣體育會柔道委員會 | C22: 澎湖縣
A23: 021 | B23: 台北市中山區柔道委員會 | C23: 臺北市
A24: 022 | B24: 板橋區體育會柔道委員會 | C24: 新北市
A25: 023 | B25: 土城區體育會柔道委員會 | C25: 新北市
A26: 024 | E26: 024 | F26: 淡水區體育會柔道委員會 | G26: 新北市 | H26: 要退會
A27: 025 | B27: 新營區體育會柔道委員會 | C27: 台南市
A28: 026 | B28: 草屯鎮柔道委員會 | C28: 南投縣
A29: 027 | E29: 027 | F29: 松江柔道館 | G29: 臺北市 | H29: 已除籍2
A30: 028 | B30: 海天武道館 | C30: 臺北市
A31: 029 | B31: 大安柔道館 | C31: 臺北市
A32: 030 | B32: 臺北市南港區柔道委員會成德柔道館 | C32: 臺北市
A33: 031 | B33: 台北市柔道推廣協會 | C33: 臺北市
A34: 032 | B34: 安平道館 | C34: 新北市
A35: 033 | B35: 可愛柔道館 | C35: 宜蘭縣
A36: 034 | B36: 台中市柔道館 | C36: 台中市
A37: 035 | B37: 后里柔道館 | C37: 台中市
A38: 036 | B38: 台中市柔道協進會 | C38: 台中市
A39: 037 | B39: 嘉義市柔道協會 | C39: 嘉義縣
A40: 038 | B40: 雲林縣虎尾鎮柔道促進會 | C40: 雲林縣
...
