Workbook

Sheet 動支單
A1: 桃園市桃園區建德國民小學
A2: 動 支 經 費 請 示 單
A3: 單位別： | D3: 學務處 | F3: 中華民國 | H3: =YEAR(TODAY())-1911 -> 113 | I3: 年 | K3: 月 | M3: 日 | O3: 簽證編號：
A4: 預算年度 | D4: 預算科目 名稱及節號 | E4: C00040 應付代收款 113上社團 | J4: 本 次 約 需 動 支 金 額 | P4: 預算數
P5: 已支數
A6: =YEAR(TODAY())-1911 -> 113 | B6: 年度 | E6: 款 項 目 節 | P6: 餘 額
A7: 用途 | C7: 113學年度第一學期學生社團 ( 社) 材料費
A10: 付款 方式 | C10: □ 逕付廠商、債權人 | K10: 報價單 張
C11: □ 由零用金支付 | I11: 附 | J11: 件 | K11: 預付費用請示單 張 共 張
C12: □ 郵局轉發( )代墊 | K12: 其他有關文件 張
A13: 內容 | C13: 名 稱 及 規 格 | G13: 數量 | H13: 單 價 | J13: 金 額 | N13: 總務處簽擬
J14: =G14*H14 -> 0 | N14: 經招商比(議)價結果計 | U14: 元
J15: =G15*H15 -> 0 | N15: 擬交 | T15: 承辦
J16: =G16*H16 -> 0 | N16: 事務組長
J17: =G17*H17 -> 0
J18: =G18*H18 -> 0 | N18: 總務主任
J19: =G19*H19 -> 0
J20: =G20*H20 -> 0 | N20: 預算登記人員
J21: =G21*H21 -> 0
J22: =G22*H22 -> 0
C23: 合計 | J23: =SUM(J14:K22) -> 0
A24: 申請單位 | G24: 會計室 | N24: 機關長官或其授權代簽人
A25: 經辦人
A27: 組 長
A29: 單位主管

Sheet 黏存單
B1: 桃園市桃園區建德國民小學
B2: 黏 貼 憑 證 用 紙
A4: 傳 票 | B4: 編號 | F4: 金 額
A6: 付款憑單 | F6: 億 | H6: 千萬 | I6: 百萬 | J6: 十萬 | K6: 萬 | L6: 千 | M6: 百 | N6: 十 | O6: 元
A7: 憑證編號 | D7: 預算年度 | E7: =YEAR(TODAY())-1911 -> 113 | F7: =IF(動支單!J23>=10000000,IF(動支單!J23<100000000,"$",MOD(INT(動支單!J23/100000000),10)),"") | H7: =IF(動支單!J23>=1000000,IF(動支單!J23<10000000,"$",MOD(INT(動支單!J23/10000000),10)),"") | I7: =IF(動支單!J23>=100000,IF(動支單!J23<1000000,"$",MOD(INT(動支單!J23/1000000),10)),"") | J7: =IF(動支單!J23>=10000,IF(動支單!J23<100000,"$",MOD(INT(動支單!J23/100000),10)),"") | K7: =IF(動支單!J23>=1000,IF(動支單!J23<10000,"$",MOD(INT(動支單!J23/10000),10)),"") | L7: =IF(動支單!J23>=100,IF(動支單!J23<1000,"$",MOD(INT(動支單!J23/1000),10)),"") | M7: =IF(動支單!J23>=10,IF(動支單!J23<100,"$",MOD(INT(動支單!J23/100),10)),"") | N7: =IF(動支單!J23>=0,IF(動支單!J23<10,"$",MOD(INT(動支單!J23/10),10)),"") -> $ | O7: =MOD(動支單!J23,10) -> 0
A8: 預算科目 | B8: =動支單!E4 -> C00040 應付代收款 113上社團 | G8: 用途說明 | J8: =動支單!C7 -> 113學年度第一學期學生社團 ( 社) 材料費
A11: 財產或所得登記 | D11: 保管 | G11: 事務組長 | L11: 總務主任 | Q11: 機關長官或 授權代簽人
A14: 經辦人 | D14: 驗收或證明 | G14: 經辦單位主管 | L14: 會計室
A17: ( 憑 證 黏 貼 線 )
A19: 說明：
A20: 一、對不同工作計畫或用途別之原始憑證請勿混合黏貼。
A21: 二、本用紙除「傳票(付款憑單)編號」及「憑證編號」兩欄由會計單位填
A22: 列外，其餘各欄由經辦核銷工作之事務人員填列。
A23: 三、本用紙憑證黏貼線上端有關人員核章欄，得視各機關實際工作之分工
A24: 程序自行增列。
A25: 四、簽署欄位依職稱大小，「由上而下，由左而右」，各單位主管應於
A26: 騎縫處核章。
A27: 五、凡提供參考之附件，如不能同時黏貼，則記明某號憑證之附件，按號
A28: 另裝成冊一併附送，並於憑證簿封面註明上開另裝附件若干件。
A29: 六、本用紙由有關人員順序核章後，送會計單位辦理經費核銷手續，月底
... A34: 單」章戳。
